BEGIN:VCALENDAR
VERSION:2.0
PRODID:-//Adventures With Friends - ECPv6.10.1.1//NONSGML v1.0//EN
CALSCALE:GREGORIAN
METHOD:PUBLISH
X-WR-CALNAME:Adventures With Friends
X-ORIGINAL-URL:https://www.adventureswithfriends.com.au
X-WR-CALDESC:Events for Adventures With Friends
REFRESH-INTERVAL;VALUE=DURATION:PT1H
X-Robots-Tag:noindex
X-PUBLISHED-TTL:PT1H
BEGIN:VTIMEZONE
TZID:Australia/Perth
BEGIN:STANDARD
TZOFFSETFROM:+0800
TZOFFSETTO:+0800
TZNAME:AWST
DTSTART:20260101T000000
END:STANDARD
END:VTIMEZONE
BEGIN:VEVENT
DTSTART;TZID=Australia/Perth:20260506T100000
DTEND;TZID=Australia/Perth:20260506T110000
DTSTAMP:20260422T142834
CREATED:20250311T022112Z
LAST-MODIFIED:20250311T022112Z
UID:10000550-1778061600-1778065200@www.adventureswithfriends.com.au
SUMMARY:Gym Session with Fitness Next
DESCRIPTION:Every Wednesday of the month we visit Bassendean SteelBlue Oval for an all-abilities workout with our wonderful trainer Cass @ Fitness Next! \nFeel like moving your body in the gym\, or getting some fresh air whilst working out & getting fit? Get in contact and join us for an hour long session!
URL:https://www.adventureswithfriends.com.au/event/gym-session-with-fitness-next/2026-05-06/
END:VEVENT
BEGIN:VEVENT
DTSTART;VALUE=DATE:20260525
DTEND;VALUE=DATE:20260602
DTSTAMP:20260422T142834
CREATED:20260129T021643Z
LAST-MODIFIED:20260129T031004Z
UID:10000603-1779667200-1780358399@www.adventureswithfriends.com.au
SUMMARY:Adventures with Friends is going to JAPAN!
DESCRIPTION:Our team & some lucky participants are heading off on a 6 day adventure to Japan\, to immerse ourselves in their culture & community! We will be heading off for this adventure at the end of May! If you may be interested in this amazing opportunity\, then please reach out to us for more information!!
URL:https://www.adventureswithfriends.com.au/event/adventures-with-friends-is-going-to-japan/
END:VEVENT
BEGIN:VEVENT
DTSTART;TZID=Australia/Perth:20260603T100000
DTEND;TZID=Australia/Perth:20260603T110000
DTSTAMP:20260422T142834
CREATED:20250311T022112Z
LAST-MODIFIED:20250311T022112Z
UID:10000551-1780480800-1780484400@www.adventureswithfriends.com.au
SUMMARY:Gym Session with Fitness Next
DESCRIPTION:Every Wednesday of the month we visit Bassendean SteelBlue Oval for an all-abilities workout with our wonderful trainer Cass @ Fitness Next! \nFeel like moving your body in the gym\, or getting some fresh air whilst working out & getting fit? Get in contact and join us for an hour long session!
URL:https://www.adventureswithfriends.com.au/event/gym-session-with-fitness-next/2026-06-03/
END:VEVENT
BEGIN:VEVENT
DTSTART;TZID=Australia/Perth:20260701T100000
DTEND;TZID=Australia/Perth:20260701T110000
DTSTAMP:20260422T142834
CREATED:20250311T022112Z
LAST-MODIFIED:20250311T022112Z
UID:10000552-1782900000-1782903600@www.adventureswithfriends.com.au
SUMMARY:Gym Session with Fitness Next
DESCRIPTION:Every Wednesday of the month we visit Bassendean SteelBlue Oval for an all-abilities workout with our wonderful trainer Cass @ Fitness Next! \nFeel like moving your body in the gym\, or getting some fresh air whilst working out & getting fit? Get in contact and join us for an hour long session!
URL:https://www.adventureswithfriends.com.au/event/gym-session-with-fitness-next/2026-07-01/
END:VEVENT
BEGIN:VEVENT
DTSTART;TZID=Australia/Perth:20260805T100000
DTEND;TZID=Australia/Perth:20260805T110000
DTSTAMP:20260422T142834
CREATED:20250311T022112Z
LAST-MODIFIED:20250311T022112Z
UID:10000553-1785924000-1785927600@www.adventureswithfriends.com.au
SUMMARY:Gym Session with Fitness Next
DESCRIPTION:Every Wednesday of the month we visit Bassendean SteelBlue Oval for an all-abilities workout with our wonderful trainer Cass @ Fitness Next! \nFeel like moving your body in the gym\, or getting some fresh air whilst working out & getting fit? Get in contact and join us for an hour long session!
URL:https://www.adventureswithfriends.com.au/event/gym-session-with-fitness-next/2026-08-05/
END:VEVENT
BEGIN:VEVENT
DTSTART;TZID=Australia/Perth:20260902T100000
DTEND;TZID=Australia/Perth:20260902T110000
DTSTAMP:20260422T142834
CREATED:20250311T022112Z
LAST-MODIFIED:20250311T022112Z
UID:10000554-1788343200-1788346800@www.adventureswithfriends.com.au
SUMMARY:Gym Session with Fitness Next
DESCRIPTION:Every Wednesday of the month we visit Bassendean SteelBlue Oval for an all-abilities workout with our wonderful trainer Cass @ Fitness Next! \nFeel like moving your body in the gym\, or getting some fresh air whilst working out & getting fit? Get in contact and join us for an hour long session!
URL:https://www.adventureswithfriends.com.au/event/gym-session-with-fitness-next/2026-09-02/
END:VEVENT
BEGIN:VEVENT
DTSTART;TZID=Australia/Perth:20261007T100000
DTEND;TZID=Australia/Perth:20261007T110000
DTSTAMP:20260422T142834
CREATED:20250311T022112Z
LAST-MODIFIED:20250311T022112Z
UID:10000555-1791367200-1791370800@www.adventureswithfriends.com.au
SUMMARY:Gym Session with Fitness Next
DESCRIPTION:Every Wednesday of the month we visit Bassendean SteelBlue Oval for an all-abilities workout with our wonderful trainer Cass @ Fitness Next! \nFeel like moving your body in the gym\, or getting some fresh air whilst working out & getting fit? Get in contact and join us for an hour long session!
URL:https://www.adventureswithfriends.com.au/event/gym-session-with-fitness-next/2026-10-07/
END:VEVENT
BEGIN:VEVENT
DTSTART;TZID=Australia/Perth:20261104T100000
DTEND;TZID=Australia/Perth:20261104T110000
DTSTAMP:20260422T142834
CREATED:20250311T022112Z
LAST-MODIFIED:20250311T022112Z
UID:10000556-1793786400-1793790000@www.adventureswithfriends.com.au
SUMMARY:Gym Session with Fitness Next
DESCRIPTION:Every Wednesday of the month we visit Bassendean SteelBlue Oval for an all-abilities workout with our wonderful trainer Cass @ Fitness Next! \nFeel like moving your body in the gym\, or getting some fresh air whilst working out & getting fit? Get in contact and join us for an hour long session!
URL:https://www.adventureswithfriends.com.au/event/gym-session-with-fitness-next/2026-11-04/
END:VEVENT
BEGIN:VEVENT
DTSTART;TZID=Australia/Perth:20261202T100000
DTEND;TZID=Australia/Perth:20261202T110000
DTSTAMP:20260422T142834
CREATED:20250311T022112Z
LAST-MODIFIED:20250311T022112Z
UID:10000557-1796205600-1796209200@www.adventureswithfriends.com.au
SUMMARY:Gym Session with Fitness Next
DESCRIPTION:Every Wednesday of the month we visit Bassendean SteelBlue Oval for an all-abilities workout with our wonderful trainer Cass @ Fitness Next! \nFeel like moving your body in the gym\, or getting some fresh air whilst working out & getting fit? Get in contact and join us for an hour long session!
URL:https://www.adventureswithfriends.com.au/event/gym-session-with-fitness-next/2026-12-02/
END:VEVENT
BEGIN:VEVENT
DTSTART;TZID=Australia/Perth:20270106T100000
DTEND;TZID=Australia/Perth:20270106T110000
DTSTAMP:20260422T142834
CREATED:20250311T022112Z
LAST-MODIFIED:20250311T022112Z
UID:10000558-1799229600-1799233200@www.adventureswithfriends.com.au
SUMMARY:Gym Session with Fitness Next
DESCRIPTION:Every Wednesday of the month we visit Bassendean SteelBlue Oval for an all-abilities workout with our wonderful trainer Cass @ Fitness Next! \nFeel like moving your body in the gym\, or getting some fresh air whilst working out & getting fit? Get in contact and join us for an hour long session!
URL:https://www.adventureswithfriends.com.au/event/gym-session-with-fitness-next/2027-01-06/
END:VEVENT
BEGIN:VEVENT
DTSTART;TZID=Australia/Perth:20270203T100000
DTEND;TZID=Australia/Perth:20270203T110000
DTSTAMP:20260422T142834
CREATED:20250311T022112Z
LAST-MODIFIED:20250311T022112Z
UID:10000559-1801648800-1801652400@www.adventureswithfriends.com.au
SUMMARY:Gym Session with Fitness Next
DESCRIPTION:Every Wednesday of the month we visit Bassendean SteelBlue Oval for an all-abilities workout with our wonderful trainer Cass @ Fitness Next! \nFeel like moving your body in the gym\, or getting some fresh air whilst working out & getting fit? Get in contact and join us for an hour long session!
URL:https://www.adventureswithfriends.com.au/event/gym-session-with-fitness-next/2027-02-03/
END:VEVENT
BEGIN:VEVENT
DTSTART;TZID=Australia/Perth:20270303T100000
DTEND;TZID=Australia/Perth:20270303T110000
DTSTAMP:20260422T142834
CREATED:20250311T022112Z
LAST-MODIFIED:20250311T022112Z
UID:10000560-1804068000-1804071600@www.adventureswithfriends.com.au
SUMMARY:Gym Session with Fitness Next
DESCRIPTION:Every Wednesday of the month we visit Bassendean SteelBlue Oval for an all-abilities workout with our wonderful trainer Cass @ Fitness Next! \nFeel like moving your body in the gym\, or getting some fresh air whilst working out & getting fit? Get in contact and join us for an hour long session!
URL:https://www.adventureswithfriends.com.au/event/gym-session-with-fitness-next/2027-03-03/
END:VEVENT
BEGIN:VEVENT
DTSTART;TZID=Australia/Perth:20270407T100000
DTEND;TZID=Australia/Perth:20270407T110000
DTSTAMP:20260422T142834
CREATED:20250311T022112Z
LAST-MODIFIED:20250311T022112Z
UID:10000561-1807092000-1807095600@www.adventureswithfriends.com.au
SUMMARY:Gym Session with Fitness Next
DESCRIPTION:Every Wednesday of the month we visit Bassendean SteelBlue Oval for an all-abilities workout with our wonderful trainer Cass @ Fitness Next! \nFeel like moving your body in the gym\, or getting some fresh air whilst working out & getting fit? Get in contact and join us for an hour long session!
URL:https://www.adventureswithfriends.com.au/event/gym-session-with-fitness-next/2027-04-07/
END:VEVENT
BEGIN:VEVENT
DTSTART;TZID=Australia/Perth:20270505T100000
DTEND;TZID=Australia/Perth:20270505T110000
DTSTAMP:20260422T142834
CREATED:20250311T022112Z
LAST-MODIFIED:20250311T022112Z
UID:10000562-1809511200-1809514800@www.adventureswithfriends.com.au
SUMMARY:Gym Session with Fitness Next
DESCRIPTION:Every Wednesday of the month we visit Bassendean SteelBlue Oval for an all-abilities workout with our wonderful trainer Cass @ Fitness Next! \nFeel like moving your body in the gym\, or getting some fresh air whilst working out & getting fit? Get in contact and join us for an hour long session!
URL:https://www.adventureswithfriends.com.au/event/gym-session-with-fitness-next/2027-05-05/
END:VEVENT
BEGIN:VEVENT
DTSTART;TZID=Australia/Perth:20270602T100000
DTEND;TZID=Australia/Perth:20270602T110000
DTSTAMP:20260422T142834
CREATED:20250311T022112Z
LAST-MODIFIED:20250311T022112Z
UID:10000563-1811930400-1811934000@www.adventureswithfriends.com.au
SUMMARY:Gym Session with Fitness Next
DESCRIPTION:Every Wednesday of the month we visit Bassendean SteelBlue Oval for an all-abilities workout with our wonderful trainer Cass @ Fitness Next! \nFeel like moving your body in the gym\, or getting some fresh air whilst working out & getting fit? Get in contact and join us for an hour long session!
URL:https://www.adventureswithfriends.com.au/event/gym-session-with-fitness-next/2027-06-02/
END:VEVENT
BEGIN:VEVENT
DTSTART;TZID=Australia/Perth:20270707T100000
DTEND;TZID=Australia/Perth:20270707T110000
DTSTAMP:20260422T142834
CREATED:20250311T022112Z
LAST-MODIFIED:20250311T022112Z
UID:10000564-1814954400-1814958000@www.adventureswithfriends.com.au
SUMMARY:Gym Session with Fitness Next
DESCRIPTION:Every Wednesday of the month we visit Bassendean SteelBlue Oval for an all-abilities workout with our wonderful trainer Cass @ Fitness Next! \nFeel like moving your body in the gym\, or getting some fresh air whilst working out & getting fit? Get in contact and join us for an hour long session!
URL:https://www.adventureswithfriends.com.au/event/gym-session-with-fitness-next/2027-07-07/
END:VEVENT
BEGIN:VEVENT
DTSTART;TZID=Australia/Perth:20270804T100000
DTEND;TZID=Australia/Perth:20270804T110000
DTSTAMP:20260422T142834
CREATED:20250311T022112Z
LAST-MODIFIED:20250311T022112Z
UID:10000565-1817373600-1817377200@www.adventureswithfriends.com.au
SUMMARY:Gym Session with Fitness Next
DESCRIPTION:Every Wednesday of the month we visit Bassendean SteelBlue Oval for an all-abilities workout with our wonderful trainer Cass @ Fitness Next! \nFeel like moving your body in the gym\, or getting some fresh air whilst working out & getting fit? Get in contact and join us for an hour long session!
URL:https://www.adventureswithfriends.com.au/event/gym-session-with-fitness-next/2027-08-04/
END:VEVENT
BEGIN:VEVENT
DTSTART;TZID=Australia/Perth:20270901T100000
DTEND;TZID=Australia/Perth:20270901T110000
DTSTAMP:20260422T142834
CREATED:20250311T022112Z
LAST-MODIFIED:20250311T022112Z
UID:10000566-1819792800-1819796400@www.adventureswithfriends.com.au
SUMMARY:Gym Session with Fitness Next
DESCRIPTION:Every Wednesday of the month we visit Bassendean SteelBlue Oval for an all-abilities workout with our wonderful trainer Cass @ Fitness Next! \nFeel like moving your body in the gym\, or getting some fresh air whilst working out & getting fit? Get in contact and join us for an hour long session!
URL:https://www.adventureswithfriends.com.au/event/gym-session-with-fitness-next/2027-09-01/
END:VEVENT
BEGIN:VEVENT
DTSTART;TZID=Australia/Perth:20271006T100000
DTEND;TZID=Australia/Perth:20271006T110000
DTSTAMP:20260422T142834
CREATED:20250311T022112Z
LAST-MODIFIED:20250311T022112Z
UID:10000567-1822816800-1822820400@www.adventureswithfriends.com.au
SUMMARY:Gym Session with Fitness Next
DESCRIPTION:Every Wednesday of the month we visit Bassendean SteelBlue Oval for an all-abilities workout with our wonderful trainer Cass @ Fitness Next! \nFeel like moving your body in the gym\, or getting some fresh air whilst working out & getting fit? Get in contact and join us for an hour long session!
URL:https://www.adventureswithfriends.com.au/event/gym-session-with-fitness-next/2027-10-06/
END:VEVENT
BEGIN:VEVENT
DTSTART;TZID=Australia/Perth:20271103T100000
DTEND;TZID=Australia/Perth:20271103T110000
DTSTAMP:20260422T142834
CREATED:20250311T022112Z
LAST-MODIFIED:20250311T022112Z
UID:10000568-1825236000-1825239600@www.adventureswithfriends.com.au
SUMMARY:Gym Session with Fitness Next
DESCRIPTION:Every Wednesday of the month we visit Bassendean SteelBlue Oval for an all-abilities workout with our wonderful trainer Cass @ Fitness Next! \nFeel like moving your body in the gym\, or getting some fresh air whilst working out & getting fit? Get in contact and join us for an hour long session!
URL:https://www.adventureswithfriends.com.au/event/gym-session-with-fitness-next/2027-11-03/
END:VEVENT
BEGIN:VEVENT
DTSTART;TZID=Australia/Perth:20271201T100000
DTEND;TZID=Australia/Perth:20271201T110000
DTSTAMP:20260422T142834
CREATED:20250311T022112Z
LAST-MODIFIED:20250311T022112Z
UID:10000569-1827655200-1827658800@www.adventureswithfriends.com.au
SUMMARY:Gym Session with Fitness Next
DESCRIPTION:Every Wednesday of the month we visit Bassendean SteelBlue Oval for an all-abilities workout with our wonderful trainer Cass @ Fitness Next! \nFeel like moving your body in the gym\, or getting some fresh air whilst working out & getting fit? Get in contact and join us for an hour long session!
URL:https://www.adventureswithfriends.com.au/event/gym-session-with-fitness-next/2027-12-01/
END:VEVENT
BEGIN:VEVENT
DTSTART;TZID=Australia/Perth:20280105T100000
DTEND;TZID=Australia/Perth:20280105T110000
DTSTAMP:20260422T142834
CREATED:20250311T022112Z
LAST-MODIFIED:20250311T022112Z
UID:10000570-1830679200-1830682800@www.adventureswithfriends.com.au
SUMMARY:Gym Session with Fitness Next
DESCRIPTION:Every Wednesday of the month we visit Bassendean SteelBlue Oval for an all-abilities workout with our wonderful trainer Cass @ Fitness Next! \nFeel like moving your body in the gym\, or getting some fresh air whilst working out & getting fit? Get in contact and join us for an hour long session!
URL:https://www.adventureswithfriends.com.au/event/gym-session-with-fitness-next/2028-01-05/
END:VEVENT
BEGIN:VEVENT
DTSTART;TZID=Australia/Perth:20280202T100000
DTEND;TZID=Australia/Perth:20280202T110000
DTSTAMP:20260422T142834
CREATED:20250311T022112Z
LAST-MODIFIED:20250311T022112Z
UID:10000571-1833098400-1833102000@www.adventureswithfriends.com.au
SUMMARY:Gym Session with Fitness Next
DESCRIPTION:Every Wednesday of the month we visit Bassendean SteelBlue Oval for an all-abilities workout with our wonderful trainer Cass @ Fitness Next! \nFeel like moving your body in the gym\, or getting some fresh air whilst working out & getting fit? Get in contact and join us for an hour long session!
URL:https://www.adventureswithfriends.com.au/event/gym-session-with-fitness-next/2028-02-02/
END:VEVENT
BEGIN:VEVENT
DTSTART;TZID=Australia/Perth:20280301T100000
DTEND;TZID=Australia/Perth:20280301T110000
DTSTAMP:20260422T142834
CREATED:20250311T022112Z
LAST-MODIFIED:20250311T022112Z
UID:10000572-1835517600-1835521200@www.adventureswithfriends.com.au
SUMMARY:Gym Session with Fitness Next
DESCRIPTION:Every Wednesday of the month we visit Bassendean SteelBlue Oval for an all-abilities workout with our wonderful trainer Cass @ Fitness Next! \nFeel like moving your body in the gym\, or getting some fresh air whilst working out & getting fit? Get in contact and join us for an hour long session!
URL:https://www.adventureswithfriends.com.au/event/gym-session-with-fitness-next/2028-03-01/
END:VEVENT
BEGIN:VEVENT
DTSTART;TZID=Australia/Perth:20280405T100000
DTEND;TZID=Australia/Perth:20280405T110000
DTSTAMP:20260422T142834
CREATED:20250311T022112Z
LAST-MODIFIED:20250311T022112Z
UID:10000573-1838541600-1838545200@www.adventureswithfriends.com.au
SUMMARY:Gym Session with Fitness Next
DESCRIPTION:Every Wednesday of the month we visit Bassendean SteelBlue Oval for an all-abilities workout with our wonderful trainer Cass @ Fitness Next! \nFeel like moving your body in the gym\, or getting some fresh air whilst working out & getting fit? Get in contact and join us for an hour long session!
URL:https://www.adventureswithfriends.com.au/event/gym-session-with-fitness-next/2028-04-05/
END:VEVENT
BEGIN:VEVENT
DTSTART;TZID=Australia/Perth:20280503T100000
DTEND;TZID=Australia/Perth:20280503T110000
DTSTAMP:20260422T142834
CREATED:20250311T022112Z
LAST-MODIFIED:20250311T022112Z
UID:10000574-1840960800-1840964400@www.adventureswithfriends.com.au
SUMMARY:Gym Session with Fitness Next
DESCRIPTION:Every Wednesday of the month we visit Bassendean SteelBlue Oval for an all-abilities workout with our wonderful trainer Cass @ Fitness Next! \nFeel like moving your body in the gym\, or getting some fresh air whilst working out & getting fit? Get in contact and join us for an hour long session!
URL:https://www.adventureswithfriends.com.au/event/gym-session-with-fitness-next/2028-05-03/
END:VEVENT
BEGIN:VEVENT
DTSTART;TZID=Australia/Perth:20280607T100000
DTEND;TZID=Australia/Perth:20280607T110000
DTSTAMP:20260422T142834
CREATED:20250311T022112Z
LAST-MODIFIED:20250311T022112Z
UID:10000575-1843984800-1843988400@www.adventureswithfriends.com.au
SUMMARY:Gym Session with Fitness Next
DESCRIPTION:Every Wednesday of the month we visit Bassendean SteelBlue Oval for an all-abilities workout with our wonderful trainer Cass @ Fitness Next! \nFeel like moving your body in the gym\, or getting some fresh air whilst working out & getting fit? Get in contact and join us for an hour long session!
URL:https://www.adventureswithfriends.com.au/event/gym-session-with-fitness-next/2028-06-07/
END:VEVENT
BEGIN:VEVENT
DTSTART;TZID=Australia/Perth:20280705T100000
DTEND;TZID=Australia/Perth:20280705T110000
DTSTAMP:20260422T142834
CREATED:20250311T022112Z
LAST-MODIFIED:20250311T022112Z
UID:10000576-1846404000-1846407600@www.adventureswithfriends.com.au
SUMMARY:Gym Session with Fitness Next
DESCRIPTION:Every Wednesday of the month we visit Bassendean SteelBlue Oval for an all-abilities workout with our wonderful trainer Cass @ Fitness Next! \nFeel like moving your body in the gym\, or getting some fresh air whilst working out & getting fit? Get in contact and join us for an hour long session!
URL:https://www.adventureswithfriends.com.au/event/gym-session-with-fitness-next/2028-07-05/
END:VEVENT
BEGIN:VEVENT
DTSTART;TZID=Australia/Perth:20280802T100000
DTEND;TZID=Australia/Perth:20280802T110000
DTSTAMP:20260422T142834
CREATED:20250311T022112Z
LAST-MODIFIED:20250311T022112Z
UID:10000577-1848823200-1848826800@www.adventureswithfriends.com.au
SUMMARY:Gym Session with Fitness Next
DESCRIPTION:Every Wednesday of the month we visit Bassendean SteelBlue Oval for an all-abilities workout with our wonderful trainer Cass @ Fitness Next! \nFeel like moving your body in the gym\, or getting some fresh air whilst working out & getting fit? Get in contact and join us for an hour long session!
URL:https://www.adventureswithfriends.com.au/event/gym-session-with-fitness-next/2028-08-02/
END:VEVENT
BEGIN:VEVENT
DTSTART;TZID=Australia/Perth:20280906T100000
DTEND;TZID=Australia/Perth:20280906T110000
DTSTAMP:20260422T142834
CREATED:20250311T022112Z
LAST-MODIFIED:20250311T022112Z
UID:10000578-1851847200-1851850800@www.adventureswithfriends.com.au
SUMMARY:Gym Session with Fitness Next
DESCRIPTION:Every Wednesday of the month we visit Bassendean SteelBlue Oval for an all-abilities workout with our wonderful trainer Cass @ Fitness Next! \nFeel like moving your body in the gym\, or getting some fresh air whilst working out & getting fit? Get in contact and join us for an hour long session!
URL:https://www.adventureswithfriends.com.au/event/gym-session-with-fitness-next/2028-09-06/
END:VEVENT
END:VCALENDAR