BEGIN:VCALENDAR
VERSION:2.0
PRODID:-//Adventures With Friends - ECPv6.10.1.1//NONSGML v1.0//EN
CALSCALE:GREGORIAN
METHOD:PUBLISH
X-WR-CALNAME:Adventures With Friends
X-ORIGINAL-URL:https://www.adventureswithfriends.com.au
X-WR-CALDESC:Events for Adventures With Friends
REFRESH-INTERVAL;VALUE=DURATION:PT1H
X-Robots-Tag:noindex
X-PUBLISHED-TTL:PT1H
BEGIN:VTIMEZONE
TZID:Australia/Perth
BEGIN:STANDARD
TZOFFSETFROM:+0800
TZOFFSETTO:+0800
TZNAME:AWST
DTSTART:20240101T000000
END:STANDARD
END:VTIMEZONE
BEGIN:VEVENT
DTSTART;TZID=Australia/Perth:20260401T100000
DTEND;TZID=Australia/Perth:20260401T110000
DTSTAMP:20260422T173622
CREATED:20250311T022112Z
LAST-MODIFIED:20250311T022112Z
UID:10000549-1775037600-1775041200@www.adventureswithfriends.com.au
SUMMARY:Gym Session with Fitness Next
DESCRIPTION:Every Wednesday of the month we visit Bassendean SteelBlue Oval for an all-abilities workout with our wonderful trainer Cass @ Fitness Next! \nFeel like moving your body in the gym\, or getting some fresh air whilst working out & getting fit? Get in contact and join us for an hour long session!
URL:https://www.adventureswithfriends.com.au/event/gym-session-with-fitness-next/2026-04-01/
END:VEVENT
BEGIN:VEVENT
DTSTART;TZID=Australia/Perth:20260304T100000
DTEND;TZID=Australia/Perth:20260304T110000
DTSTAMP:20260422T173622
CREATED:20250311T022112Z
LAST-MODIFIED:20250311T022112Z
UID:10000548-1772618400-1772622000@www.adventureswithfriends.com.au
SUMMARY:Gym Session with Fitness Next
DESCRIPTION:Every Wednesday of the month we visit Bassendean SteelBlue Oval for an all-abilities workout with our wonderful trainer Cass @ Fitness Next! \nFeel like moving your body in the gym\, or getting some fresh air whilst working out & getting fit? Get in contact and join us for an hour long session!
URL:https://www.adventureswithfriends.com.au/event/gym-session-with-fitness-next/2026-03-04/
END:VEVENT
BEGIN:VEVENT
DTSTART;TZID=Australia/Perth:20260204T100000
DTEND;TZID=Australia/Perth:20260204T110000
DTSTAMP:20260422T173622
CREATED:20250311T022112Z
LAST-MODIFIED:20250311T022112Z
UID:10000547-1770199200-1770202800@www.adventureswithfriends.com.au
SUMMARY:Gym Session with Fitness Next
DESCRIPTION:Every Wednesday of the month we visit Bassendean SteelBlue Oval for an all-abilities workout with our wonderful trainer Cass @ Fitness Next! \nFeel like moving your body in the gym\, or getting some fresh air whilst working out & getting fit? Get in contact and join us for an hour long session!
URL:https://www.adventureswithfriends.com.au/event/gym-session-with-fitness-next/2026-02-04/
END:VEVENT
BEGIN:VEVENT
DTSTART;TZID=Australia/Perth:20260107T100000
DTEND;TZID=Australia/Perth:20260107T110000
DTSTAMP:20260422T173622
CREATED:20250311T022112Z
LAST-MODIFIED:20250311T022112Z
UID:10000546-1767780000-1767783600@www.adventureswithfriends.com.au
SUMMARY:Gym Session with Fitness Next
DESCRIPTION:Every Wednesday of the month we visit Bassendean SteelBlue Oval for an all-abilities workout with our wonderful trainer Cass @ Fitness Next! \nFeel like moving your body in the gym\, or getting some fresh air whilst working out & getting fit? Get in contact and join us for an hour long session!
URL:https://www.adventureswithfriends.com.au/event/gym-session-with-fitness-next/2026-01-07/
END:VEVENT
BEGIN:VEVENT
DTSTART;TZID=Australia/Perth:20251203T100000
DTEND;TZID=Australia/Perth:20251203T110000
DTSTAMP:20260422T173622
CREATED:20250311T022112Z
LAST-MODIFIED:20250311T022112Z
UID:10000545-1764756000-1764759600@www.adventureswithfriends.com.au
SUMMARY:Gym Session with Fitness Next
DESCRIPTION:Every Wednesday of the month we visit Bassendean SteelBlue Oval for an all-abilities workout with our wonderful trainer Cass @ Fitness Next! \nFeel like moving your body in the gym\, or getting some fresh air whilst working out & getting fit? Get in contact and join us for an hour long session!
URL:https://www.adventureswithfriends.com.au/event/gym-session-with-fitness-next/2025-12-03/
END:VEVENT
BEGIN:VEVENT
DTSTART;TZID=Australia/Perth:20251105T100000
DTEND;TZID=Australia/Perth:20251105T110000
DTSTAMP:20260422T173622
CREATED:20250311T022112Z
LAST-MODIFIED:20250311T022112Z
UID:10000544-1762336800-1762340400@www.adventureswithfriends.com.au
SUMMARY:Gym Session with Fitness Next
DESCRIPTION:Every Wednesday of the month we visit Bassendean SteelBlue Oval for an all-abilities workout with our wonderful trainer Cass @ Fitness Next! \nFeel like moving your body in the gym\, or getting some fresh air whilst working out & getting fit? Get in contact and join us for an hour long session!
URL:https://www.adventureswithfriends.com.au/event/gym-session-with-fitness-next/2025-11-05/
END:VEVENT
BEGIN:VEVENT
DTSTART;TZID=Australia/Perth:20251001T100000
DTEND;TZID=Australia/Perth:20251001T110000
DTSTAMP:20260422T173622
CREATED:20250311T022112Z
LAST-MODIFIED:20250311T022112Z
UID:10000543-1759312800-1759316400@www.adventureswithfriends.com.au
SUMMARY:Gym Session with Fitness Next
DESCRIPTION:Every Wednesday of the month we visit Bassendean SteelBlue Oval for an all-abilities workout with our wonderful trainer Cass @ Fitness Next! \nFeel like moving your body in the gym\, or getting some fresh air whilst working out & getting fit? Get in contact and join us for an hour long session!
URL:https://www.adventureswithfriends.com.au/event/gym-session-with-fitness-next/2025-10-01/
END:VEVENT
BEGIN:VEVENT
DTSTART;TZID=Australia/Perth:20250903T100000
DTEND;TZID=Australia/Perth:20250903T110000
DTSTAMP:20260422T173622
CREATED:20250311T022112Z
LAST-MODIFIED:20250311T022112Z
UID:10000542-1756893600-1756897200@www.adventureswithfriends.com.au
SUMMARY:Gym Session with Fitness Next
DESCRIPTION:Every Wednesday of the month we visit Bassendean SteelBlue Oval for an all-abilities workout with our wonderful trainer Cass @ Fitness Next! \nFeel like moving your body in the gym\, or getting some fresh air whilst working out & getting fit? Get in contact and join us for an hour long session!
URL:https://www.adventureswithfriends.com.au/event/gym-session-with-fitness-next/2025-09-03/
END:VEVENT
BEGIN:VEVENT
DTSTART;TZID=Australia/Perth:20250806T100000
DTEND;TZID=Australia/Perth:20250806T110000
DTSTAMP:20260422T173622
CREATED:20250311T022112Z
LAST-MODIFIED:20250311T022112Z
UID:10000541-1754474400-1754478000@www.adventureswithfriends.com.au
SUMMARY:Gym Session with Fitness Next
DESCRIPTION:Every Wednesday of the month we visit Bassendean SteelBlue Oval for an all-abilities workout with our wonderful trainer Cass @ Fitness Next! \nFeel like moving your body in the gym\, or getting some fresh air whilst working out & getting fit? Get in contact and join us for an hour long session!
URL:https://www.adventureswithfriends.com.au/event/gym-session-with-fitness-next/2025-08-06/
END:VEVENT
BEGIN:VEVENT
DTSTART;TZID=Australia/Perth:20250702T100000
DTEND;TZID=Australia/Perth:20250702T110000
DTSTAMP:20260422T173622
CREATED:20250311T022112Z
LAST-MODIFIED:20250311T022112Z
UID:10000540-1751450400-1751454000@www.adventureswithfriends.com.au
SUMMARY:Gym Session with Fitness Next
DESCRIPTION:Every Wednesday of the month we visit Bassendean SteelBlue Oval for an all-abilities workout with our wonderful trainer Cass @ Fitness Next! \nFeel like moving your body in the gym\, or getting some fresh air whilst working out & getting fit? Get in contact and join us for an hour long session!
URL:https://www.adventureswithfriends.com.au/event/gym-session-with-fitness-next/2025-07-02/
END:VEVENT
BEGIN:VEVENT
DTSTART;TZID=Australia/Perth:20250604T100000
DTEND;TZID=Australia/Perth:20250604T110000
DTSTAMP:20260422T173622
CREATED:20250311T022112Z
LAST-MODIFIED:20250311T022112Z
UID:10000539-1749031200-1749034800@www.adventureswithfriends.com.au
SUMMARY:Gym Session with Fitness Next
DESCRIPTION:Every Wednesday of the month we visit Bassendean SteelBlue Oval for an all-abilities workout with our wonderful trainer Cass @ Fitness Next! \nFeel like moving your body in the gym\, or getting some fresh air whilst working out & getting fit? Get in contact and join us for an hour long session!
URL:https://www.adventureswithfriends.com.au/event/gym-session-with-fitness-next/2025-06-04/
END:VEVENT
BEGIN:VEVENT
DTSTART;TZID=Australia/Perth:20250509T170000
DTEND;TZID=Australia/Perth:20250509T220000
DTSTAMP:20260422T173622
CREATED:20250311T042450Z
LAST-MODIFIED:20250311T042450Z
UID:10000602-1746810000-1746828000@www.adventureswithfriends.com.au
SUMMARY:Gone but not forgotten Musical - Tivolli Centre
DESCRIPTION:See! We really do love a musical\, we are heading to the Tivolli Centre in Applecross for dinner & a show. \nThe gone but not forgotten show is a tribute to singers and song writers who have inspired everyone – such as Tina Turner\, Aretha Franklin\, Freddie Mercury\, Johnny Cash plus more. \nWe cant wait for a sing song & another great night out! Register your interest.
URL:https://www.adventureswithfriends.com.au/event/gone-but-not-forgotten-musical-tivolli-centre/
END:VEVENT
BEGIN:VEVENT
DTSTART;TZID=Australia/Perth:20250507T100000
DTEND;TZID=Australia/Perth:20250507T110000
DTSTAMP:20260422T173622
CREATED:20250311T022112Z
LAST-MODIFIED:20250311T022112Z
UID:10000538-1746612000-1746615600@www.adventureswithfriends.com.au
SUMMARY:Gym Session with Fitness Next
DESCRIPTION:Every Wednesday of the month we visit Bassendean SteelBlue Oval for an all-abilities workout with our wonderful trainer Cass @ Fitness Next! \nFeel like moving your body in the gym\, or getting some fresh air whilst working out & getting fit? Get in contact and join us for an hour long session!
URL:https://www.adventureswithfriends.com.au/event/gym-session-with-fitness-next/2025-05-07/
END:VEVENT
BEGIN:VEVENT
DTSTART;TZID=Australia/Perth:20250502T170000
DTEND;TZID=Australia/Perth:20250502T220000
DTSTAMP:20260422T173622
CREATED:20250311T034326Z
LAST-MODIFIED:20250311T034453Z
UID:10000601-1746205200-1746223200@www.adventureswithfriends.com.au
SUMMARY:
DESCRIPTION:We sure do love a musical! We’ll be heading to Crown Theatres to see the Sister Act musical! Let us know if you would like to join in!
URL:https://www.adventureswithfriends.com.au/event/1372/
LOCATION:Crown Theatres\, Burswood
END:VEVENT
BEGIN:VEVENT
DTSTART;VALUE=DATE:20250411
DTEND;VALUE=DATE:20250414
DTSTAMP:20260422T173622
CREATED:20250311T033438Z
LAST-MODIFIED:20250311T033438Z
UID:10000600-1744329600-1744588799@www.adventureswithfriends.com.au
SUMMARY:Weekend Away to Bovell
DESCRIPTION:We’re heading away down south to check out Bovell – a small town just out from Busselton. Whilst the weather is still warm\, we thought\, why not head back down south to explore our beaches\, get some sun\, fresh air & hang out! \nOur gorgeous AirBNB will keep us comfy and we will all get into the modern kitchen to cook brekki & dinner for our friends. \nThis weekend away is fully booked\, but check out our next weekend away and let us know asap if you’d like to attend & adventure with us! \n 
URL:https://www.adventureswithfriends.com.au/event/weekend-away-to-bovell/
LOCATION:Bovell
END:VEVENT
BEGIN:VEVENT
DTSTART;TZID=Australia/Perth:20250404T170000
DTEND;TZID=Australia/Perth:20250404T220000
DTSTAMP:20260422T173622
CREATED:20250311T032801Z
LAST-MODIFIED:20250311T032801Z
UID:10000599-1743786000-1743804000@www.adventureswithfriends.com.au
SUMMARY:Sculptures by the sea Fremantle
DESCRIPTION:Its the sixth edition of Scluptures at Bathers Beach in Fremantle – and we cant wait to head down there to check it out! \nThis free public event celebrates sculpture and fosters a strong community of WA artists and art lovers. \nOur Friday Adventurers will enjoy dinner out\, a walk on the beach to check out the incredible sculptures & have a cheeky ice-cream afterwards! \n \n 
URL:https://www.adventureswithfriends.com.au/event/sculptures-by-the-sea-fremantle/
LOCATION:Bathers Beach Fremantle
END:VEVENT
BEGIN:VEVENT
DTSTART;TZID=Australia/Perth:20250402T100000
DTEND;TZID=Australia/Perth:20250402T110000
DTSTAMP:20260422T173622
CREATED:20250311T022112Z
LAST-MODIFIED:20250311T022112Z
UID:10000537-1743588000-1743591600@www.adventureswithfriends.com.au
SUMMARY:Gym Session with Fitness Next
DESCRIPTION:Every Wednesday of the month we visit Bassendean SteelBlue Oval for an all-abilities workout with our wonderful trainer Cass @ Fitness Next! \nFeel like moving your body in the gym\, or getting some fresh air whilst working out & getting fit? Get in contact and join us for an hour long session!
URL:https://www.adventureswithfriends.com.au/event/gym-session-with-fitness-next/2025-04-02/
END:VEVENT
BEGIN:VEVENT
DTSTART;VALUE=DATE:20250329
DTEND;VALUE=DATE:20250330
DTSTAMP:20260422T173622
CREATED:20250311T023555Z
LAST-MODIFIED:20250311T023555Z
UID:10000598-1743206400-1743292799@www.adventureswithfriends.com.au
SUMMARY:Optus Stadium Tour
DESCRIPTION:Have you ever been to Optus Stadium to watch the Footy\, Cricket\, or been to a Concert there? \nWell we will be heading there on a sunny Saturday to adventure around & explore the; \nVisit the Fremantle Dockers\, West Coast Eagles and the Perth Scorchers changerooms \nSee the stunning Victory Lounge and Coaches’ Room \nAn interactive experience in the state-of-the-art Dennis Cometti Media Centre \nViews of the field of play from some of the best vantage points \nLet us know if this sounds like a fun adventure\, and contact us if you would like to join us! \n  \n \n 
URL:https://www.adventureswithfriends.com.au/event/optus-stadium-tour/
LOCATION:Optus Stadium\, Perth
END:VEVENT
BEGIN:VEVENT
DTSTART;TZID=Australia/Perth:20250321T170000
DTEND;TZID=Australia/Perth:20250321T220000
DTSTAMP:20260422T173622
CREATED:20250311T022701Z
LAST-MODIFIED:20250311T022701Z
UID:10000597-1742576400-1742594400@www.adventureswithfriends.com.au
SUMMARY:Joondalup Festival 2025
DESCRIPTION:WATER DRAGONS @ Joondalup Festival – We cant wait!! \nThree colossal dragons are set to snake their way to the waters of Hillarys Boat Harbour in a jaw-dropping WA premiere for Joondalup Festival. \nWatch in awe as the spiny 15-metre beasts – donned by jet-ski propelled puppeteers – glide through the harbour\, complete with an epic light and soundscape
URL:https://www.adventureswithfriends.com.au/event/joondalup-festival-2025/
LOCATION:Joondalup
END:VEVENT
BEGIN:VEVENT
DTSTART;VALUE=DATE:20250314
DTEND;VALUE=DATE:20250317
DTSTAMP:20260422T173622
CREATED:20250311T021415Z
LAST-MODIFIED:20250311T021415Z
UID:10000536-1741910400-1742169599@www.adventureswithfriends.com.au
SUMMARY:Mandurah CrabFest
DESCRIPTION:We are heading down to Mandurah for our weekend getaway\, to check out the ever so popular\, CRABFEST 25! We are staying in a beautiful canal front location with all our friends! We cant wait  to share the fun with you!
URL:https://www.adventureswithfriends.com.au/event/mandurah-crabfest/
LOCATION:Mandurah
END:VEVENT
BEGIN:VEVENT
DTSTART;VALUE=DATE:20250131
DTEND;VALUE=DATE:20250201
DTSTAMP:20260422T173622
CREATED:20241126T025920Z
LAST-MODIFIED:20241217T043034Z
UID:10000534-1738281600-1738367999@www.adventureswithfriends.com.au
SUMMARY:Time Zone Innaloo
DESCRIPTION:Please contact us for more information.
URL:https://www.adventureswithfriends.com.au/event/time-zone-innaloo-20-00/
ATTACH;FMTTYPE=image/webp:https://www.adventureswithfriends.com.au/wp-content/uploads/2024/11/arcade-opt.webp
END:VEVENT
BEGIN:VEVENT
DTSTART;VALUE=DATE:20250129
DTEND;VALUE=DATE:20250130
DTSTAMP:20260422T173622
CREATED:20241126T025403Z
LAST-MODIFIED:20241217T042811Z
UID:10000533-1738108800-1738195199@www.adventureswithfriends.com.au
SUMMARY:Karaoke
DESCRIPTION:Please contact us for more information.
URL:https://www.adventureswithfriends.com.au/event/karaoke/
ATTACH;FMTTYPE=image/webp:https://www.adventureswithfriends.com.au/wp-content/uploads/2024/11/karaoke-opt.webp
END:VEVENT
BEGIN:VEVENT
DTSTART;VALUE=DATE:20250124
DTEND;VALUE=DATE:20250125
DTSTAMP:20260422T173622
CREATED:20241126T025314Z
LAST-MODIFIED:20241217T042656Z
UID:10000532-1737676800-1737763199@www.adventureswithfriends.com.au
SUMMARY:Camp Rock Musical
DESCRIPTION:Please contact us for more information.
URL:https://www.adventureswithfriends.com.au/event/camprock-musical25-50-mt-lawley-theatre/
ATTACH;FMTTYPE=image/webp:https://www.adventureswithfriends.com.au/wp-content/uploads/2024/11/Playlovers-CampRock350-opt.webp
END:VEVENT
BEGIN:VEVENT
DTSTART;TZID=Australia/Perth:20250122T110000
DTEND;TZID=Australia/Perth:20250122T130000
DTSTAMP:20260422T173622
CREATED:20241126T024906Z
LAST-MODIFIED:20241217T042905Z
UID:10000531-1737543600-1737550800@www.adventureswithfriends.com.au
SUMMARY:S&R Orchard Fruit Picking & Tractor Rides
DESCRIPTION:Please contact us for more information.
URL:https://www.adventureswithfriends.com.au/event/sr-orchard-fruit-picking-tractor-rides/
ATTACH;FMTTYPE=image/webp:https://www.adventureswithfriends.com.au/wp-content/uploads/2024/11/fruit-picking-opt.webp
END:VEVENT
BEGIN:VEVENT
DTSTART;VALUE=DATE:20250117
DTEND;VALUE=DATE:20250118
DTSTAMP:20260422T173622
CREATED:20241126T024634Z
LAST-MODIFIED:20241217T042944Z
UID:10000530-1737072000-1737158399@www.adventureswithfriends.com.au
SUMMARY:Gnomeo Gnomeo Light Festival Perth CBD
DESCRIPTION:Please contact us for more information.
URL:https://www.adventureswithfriends.com.au/event/gnomeo-gnomeo-light-festival-perth-cbd/
ATTACH;FMTTYPE=image/webp:https://www.adventureswithfriends.com.au/wp-content/uploads/2024/11/gnomes-opt.webp
END:VEVENT
BEGIN:VEVENT
DTSTART;VALUE=DATE:20250115
DTEND;VALUE=DATE:20250116
DTSTAMP:20260422T173622
CREATED:20241126T024331Z
LAST-MODIFIED:20241217T043107Z
UID:10000529-1736899200-1736985599@www.adventureswithfriends.com.au
SUMMARY:Crown Casino
DESCRIPTION:MUST BRING ID – Proof of Age \nPlease contact us for more information.
URL:https://www.adventureswithfriends.com.au/event/crown-casino-free-must-bring-id-proof-of-age/
ATTACH;FMTTYPE=image/jpeg:https://www.adventureswithfriends.com.au/wp-content/uploads/2024/11/casino.jpg
END:VEVENT
BEGIN:VEVENT
DTSTART;TZID=Australia/Perth:20250110T000000
DTEND;TZID=Australia/Perth:20250112T000000
DTSTAMP:20260422T173622
CREATED:20241126T022619Z
LAST-MODIFIED:20241126T023237Z
UID:10000528-1736467200-1736640000@www.adventureswithfriends.com.au
SUMMARY:Vasse Weekend Away
DESCRIPTION:Please contact us for more information.
URL:https://www.adventureswithfriends.com.au/event/vasse-weekend-away/
ATTACH;FMTTYPE=image/webp:https://www.adventureswithfriends.com.au/wp-content/uploads/2024/11/busselton-opt.webp
END:VEVENT
BEGIN:VEVENT
DTSTART;VALUE=DATE:20250108
DTEND;VALUE=DATE:20250109
DTSTAMP:20260422T173622
CREATED:20241126T022411Z
LAST-MODIFIED:20241217T043156Z
UID:10000527-1736294400-1736380799@www.adventureswithfriends.com.au
SUMMARY:Movies - Moana 2
DESCRIPTION:Reading Cinemas Belmont \nPlease contact us for more information.
URL:https://www.adventureswithfriends.com.au/event/movies-reading-cinemas-belmont-moana-2/
ATTACH;FMTTYPE=image/webp:https://www.adventureswithfriends.com.au/wp-content/uploads/2024/11/cinemas-opt.webp
END:VEVENT
BEGIN:VEVENT
DTSTART;VALUE=DATE:20250103
DTEND;VALUE=DATE:20250104
DTSTAMP:20260422T173622
CREATED:20241126T022050Z
LAST-MODIFIED:20241217T043258Z
UID:10000526-1735862400-1735948799@www.adventureswithfriends.com.au
SUMMARY:Elizabeth Quay Fun Fair
DESCRIPTION:Free entry (costing for rides) \nPlease contact us for more information.
URL:https://www.adventureswithfriends.com.au/event/elizabeth-quay-fun-fair-free-entry-costing-for-rides/
ATTACH;FMTTYPE=image/webp:https://www.adventureswithfriends.com.au/wp-content/uploads/2024/11/elizabeth-quay.webp
END:VEVENT
BEGIN:VEVENT
DTSTART;VALUE=DATE:20241220
DTEND;VALUE=DATE:20241221
DTSTAMP:20260422T173622
CREATED:20241126T021058Z
LAST-MODIFIED:20241217T044230Z
UID:10000524-1734652800-1734739199@www.adventureswithfriends.com.au
SUMMARY:Burswood Outdoor Christmas Movies
DESCRIPTION:Please contact us for more information.
URL:https://www.adventureswithfriends.com.au/event/burswood-outdoor-christmas-movies/
ATTACH;FMTTYPE=image/webp:https://www.adventureswithfriends.com.au/wp-content/uploads/2024/11/CommunityCinemasOpeningNight-056-fb-opt.webp
END:VEVENT
END:VCALENDAR