BEGIN:VCALENDAR
VERSION:2.0
PRODID:-//Adventures With Friends - ECPv6.10.1.1//NONSGML v1.0//EN
CALSCALE:GREGORIAN
METHOD:PUBLISH
X-ORIGINAL-URL:https://www.adventureswithfriends.com.au
X-WR-CALDESC:Events for Adventures With Friends
REFRESH-INTERVAL;VALUE=DURATION:PT1H
X-Robots-Tag:noindex
X-PUBLISHED-TTL:PT1H
BEGIN:VTIMEZONE
TZID:Australia/Perth
BEGIN:STANDARD
TZOFFSETFROM:+0800
TZOFFSETTO:+0800
TZNAME:AWST
DTSTART:20240101T000000
END:STANDARD
END:VTIMEZONE
BEGIN:VEVENT
DTSTART;VALUE=DATE:20250117
DTEND;VALUE=DATE:20250118
DTSTAMP:20260422T203655
CREATED:20241126T024634Z
LAST-MODIFIED:20241217T042944Z
UID:10000530-1737072000-1737158399@www.adventureswithfriends.com.au
SUMMARY:Gnomeo Gnomeo Light Festival Perth CBD
DESCRIPTION:Please contact us for more information.
URL:https://www.adventureswithfriends.com.au/event/gnomeo-gnomeo-light-festival-perth-cbd/
ATTACH;FMTTYPE=image/webp:https://www.adventureswithfriends.com.au/wp-content/uploads/2024/11/gnomes-opt.webp
END:VEVENT
BEGIN:VEVENT
DTSTART;VALUE=DATE:20250115
DTEND;VALUE=DATE:20250116
DTSTAMP:20260422T203655
CREATED:20241126T024331Z
LAST-MODIFIED:20241217T043107Z
UID:10000529-1736899200-1736985599@www.adventureswithfriends.com.au
SUMMARY:Crown Casino
DESCRIPTION:MUST BRING ID – Proof of Age \nPlease contact us for more information.
URL:https://www.adventureswithfriends.com.au/event/crown-casino-free-must-bring-id-proof-of-age/
ATTACH;FMTTYPE=image/jpeg:https://www.adventureswithfriends.com.au/wp-content/uploads/2024/11/casino.jpg
END:VEVENT
BEGIN:VEVENT
DTSTART;TZID=Australia/Perth:20250110T000000
DTEND;TZID=Australia/Perth:20250112T000000
DTSTAMP:20260422T203655
CREATED:20241126T022619Z
LAST-MODIFIED:20241126T023237Z
UID:10000528-1736467200-1736640000@www.adventureswithfriends.com.au
SUMMARY:Vasse Weekend Away
DESCRIPTION:Please contact us for more information.
URL:https://www.adventureswithfriends.com.au/event/vasse-weekend-away/
ATTACH;FMTTYPE=image/webp:https://www.adventureswithfriends.com.au/wp-content/uploads/2024/11/busselton-opt.webp
END:VEVENT
BEGIN:VEVENT
DTSTART;VALUE=DATE:20250108
DTEND;VALUE=DATE:20250109
DTSTAMP:20260422T203655
CREATED:20241126T022411Z
LAST-MODIFIED:20241217T043156Z
UID:10000527-1736294400-1736380799@www.adventureswithfriends.com.au
SUMMARY:Movies - Moana 2
DESCRIPTION:Reading Cinemas Belmont \nPlease contact us for more information.
URL:https://www.adventureswithfriends.com.au/event/movies-reading-cinemas-belmont-moana-2/
ATTACH;FMTTYPE=image/webp:https://www.adventureswithfriends.com.au/wp-content/uploads/2024/11/cinemas-opt.webp
END:VEVENT
BEGIN:VEVENT
DTSTART;VALUE=DATE:20250103
DTEND;VALUE=DATE:20250104
DTSTAMP:20260422T203655
CREATED:20241126T022050Z
LAST-MODIFIED:20241217T043258Z
UID:10000526-1735862400-1735948799@www.adventureswithfriends.com.au
SUMMARY:Elizabeth Quay Fun Fair
DESCRIPTION:Free entry (costing for rides) \nPlease contact us for more information.
URL:https://www.adventureswithfriends.com.au/event/elizabeth-quay-fun-fair-free-entry-costing-for-rides/
ATTACH;FMTTYPE=image/webp:https://www.adventureswithfriends.com.au/wp-content/uploads/2024/11/elizabeth-quay.webp
END:VEVENT
BEGIN:VEVENT
DTSTART;VALUE=DATE:20241220
DTEND;VALUE=DATE:20241221
DTSTAMP:20260422T203655
CREATED:20241126T021058Z
LAST-MODIFIED:20241217T044230Z
UID:10000524-1734652800-1734739199@www.adventureswithfriends.com.au
SUMMARY:Burswood Outdoor Christmas Movies
DESCRIPTION:Please contact us for more information.
URL:https://www.adventureswithfriends.com.au/event/burswood-outdoor-christmas-movies/
ATTACH;FMTTYPE=image/webp:https://www.adventureswithfriends.com.au/wp-content/uploads/2024/11/CommunityCinemasOpeningNight-056-fb-opt.webp
END:VEVENT
BEGIN:VEVENT
DTSTART;VALUE=DATE:20241218
DTEND;VALUE=DATE:20241219
DTSTAMP:20260422T203655
CREATED:20241126T020848Z
LAST-MODIFIED:20241217T044300Z
UID:10000523-1734480000-1734566399@www.adventureswithfriends.com.au
SUMMARY:Christmas Karaoke
DESCRIPTION:Please contact us for more information.
URL:https://www.adventureswithfriends.com.au/event/christmas-karaoke/
ATTACH;FMTTYPE=image/webp:https://www.adventureswithfriends.com.au/wp-content/uploads/2024/11/karaoke-opt.webp
END:VEVENT
END:VCALENDAR