BEGIN:VCALENDAR
VERSION:2.0
PRODID:-//Adventures With Friends - ECPv6.10.1.1//NONSGML v1.0//EN
CALSCALE:GREGORIAN
METHOD:PUBLISH
X-ORIGINAL-URL:https://www.adventureswithfriends.com.au
X-WR-CALDESC:Events for Adventures With Friends
REFRESH-INTERVAL;VALUE=DURATION:PT1H
X-Robots-Tag:noindex
X-PUBLISHED-TTL:PT1H
BEGIN:VTIMEZONE
TZID:Australia/Perth
BEGIN:STANDARD
TZOFFSETFROM:+0800
TZOFFSETTO:+0800
TZNAME:AWST
DTSTART:20250101T000000
END:STANDARD
END:VTIMEZONE
BEGIN:VEVENT
DTSTART;TZID=Australia/Perth:20250404T170000
DTEND;TZID=Australia/Perth:20250404T220000
DTSTAMP:20260422T235542
CREATED:20250311T032801Z
LAST-MODIFIED:20250311T032801Z
UID:10000599-1743786000-1743804000@www.adventureswithfriends.com.au
SUMMARY:Sculptures by the sea Fremantle
DESCRIPTION:Its the sixth edition of Scluptures at Bathers Beach in Fremantle – and we cant wait to head down there to check it out! \nThis free public event celebrates sculpture and fosters a strong community of WA artists and art lovers. \nOur Friday Adventurers will enjoy dinner out\, a walk on the beach to check out the incredible sculptures & have a cheeky ice-cream afterwards! \n \n 
URL:https://www.adventureswithfriends.com.au/event/sculptures-by-the-sea-fremantle/
LOCATION:Bathers Beach Fremantle
END:VEVENT
END:VCALENDAR