BEGIN:VCALENDAR
VERSION:2.0
PRODID:-//Adventures With Friends - ECPv6.10.1.1//NONSGML v1.0//EN
CALSCALE:GREGORIAN
METHOD:PUBLISH
X-ORIGINAL-URL:https://www.adventureswithfriends.com.au
X-WR-CALDESC:Events for Adventures With Friends
REFRESH-INTERVAL;VALUE=DURATION:PT1H
X-Robots-Tag:noindex
X-PUBLISHED-TTL:PT1H
BEGIN:VTIMEZONE
TZID:Australia/Perth
BEGIN:STANDARD
TZOFFSETFROM:+0800
TZOFFSETTO:+0800
TZNAME:AWST
DTSTART:20250101T000000
END:STANDARD
END:VTIMEZONE
BEGIN:VEVENT
DTSTART;VALUE=DATE:20250411
DTEND;VALUE=DATE:20250414
DTSTAMP:20260422T234156
CREATED:20250311T033438Z
LAST-MODIFIED:20250311T033438Z
UID:10000600-1744329600-1744588799@www.adventureswithfriends.com.au
SUMMARY:Weekend Away to Bovell
DESCRIPTION:We’re heading away down south to check out Bovell – a small town just out from Busselton. Whilst the weather is still warm\, we thought\, why not head back down south to explore our beaches\, get some sun\, fresh air & hang out! \nOur gorgeous AirBNB will keep us comfy and we will all get into the modern kitchen to cook brekki & dinner for our friends. \nThis weekend away is fully booked\, but check out our next weekend away and let us know asap if you’d like to attend & adventure with us! \n 
URL:https://www.adventureswithfriends.com.au/event/weekend-away-to-bovell/
LOCATION:Bovell
END:VEVENT
END:VCALENDAR