BEGIN:VCALENDAR
VERSION:2.0
PRODID:-//Adventures With Friends - ECPv6.10.1.1//NONSGML v1.0//EN
CALSCALE:GREGORIAN
METHOD:PUBLISH
X-ORIGINAL-URL:https://www.adventureswithfriends.com.au
X-WR-CALDESC:Events for Adventures With Friends
REFRESH-INTERVAL;VALUE=DURATION:PT1H
X-Robots-Tag:noindex
X-PUBLISHED-TTL:PT1H
BEGIN:VTIMEZONE
TZID:Australia/Perth
BEGIN:STANDARD
TZOFFSETFROM:+0800
TZOFFSETTO:+0800
TZNAME:AWST
DTSTART:20250101T000000
END:STANDARD
END:VTIMEZONE
BEGIN:VEVENT
DTSTART;VALUE=DATE:20250314
DTEND;VALUE=DATE:20250317
DTSTAMP:20260422T233811
CREATED:20250311T021415Z
LAST-MODIFIED:20250311T021415Z
UID:10000536-1741910400-1742169599@www.adventureswithfriends.com.au
SUMMARY:Mandurah CrabFest
DESCRIPTION:We are heading down to Mandurah for our weekend getaway\, to check out the ever so popular\, CRABFEST 25! We are staying in a beautiful canal front location with all our friends! We cant wait  to share the fun with you!
URL:https://www.adventureswithfriends.com.au/event/mandurah-crabfest/
LOCATION:Mandurah
END:VEVENT
END:VCALENDAR