BEGIN:VCALENDAR
VERSION:2.0
PRODID:-//Adventures With Friends - ECPv6.10.1.1//NONSGML v1.0//EN
CALSCALE:GREGORIAN
METHOD:PUBLISH
X-WR-CALNAME:Adventures With Friends
X-ORIGINAL-URL:https://www.adventureswithfriends.com.au
X-WR-CALDESC:Events for Adventures With Friends
REFRESH-INTERVAL;VALUE=DURATION:PT1H
X-Robots-Tag:noindex
X-PUBLISHED-TTL:PT1H
BEGIN:VTIMEZONE
TZID:Australia/Perth
BEGIN:STANDARD
TZOFFSETFROM:+0800
TZOFFSETTO:+0800
TZNAME:AWST
DTSTART:20250101T000000
END:STANDARD
END:VTIMEZONE
BEGIN:VEVENT
DTSTART;VALUE=DATE:20250329
DTEND;VALUE=DATE:20250330
DTSTAMP:20260422T235713
CREATED:20250311T023555Z
LAST-MODIFIED:20250311T023555Z
UID:10000598-1743206400-1743292799@www.adventureswithfriends.com.au
SUMMARY:Optus Stadium Tour
DESCRIPTION:Have you ever been to Optus Stadium to watch the Footy\, Cricket\, or been to a Concert there? \nWell we will be heading there on a sunny Saturday to adventure around & explore the; \nVisit the Fremantle Dockers\, West Coast Eagles and the Perth Scorchers changerooms \nSee the stunning Victory Lounge and Coaches’ Room \nAn interactive experience in the state-of-the-art Dennis Cometti Media Centre \nViews of the field of play from some of the best vantage points \nLet us know if this sounds like a fun adventure\, and contact us if you would like to join us! \n  \n \n 
URL:https://www.adventureswithfriends.com.au/event/optus-stadium-tour/
LOCATION:Optus Stadium\, Perth
END:VEVENT
END:VCALENDAR